BEGIN:VCALENDAR
VERSION:2.0
PRODID:-//Savannah Oaks Winery - ECPv6.5.1.4//NONSGML v1.0//EN
CALSCALE:GREGORIAN
METHOD:PUBLISH
X-WR-CALNAME:Savannah Oaks Winery
X-ORIGINAL-URL:https://savannahoakswineryofdelano.com
X-WR-CALDESC:Events for Savannah Oaks Winery
REFRESH-INTERVAL;VALUE=DURATION:PT1H
X-Robots-Tag:noindex
X-PUBLISHED-TTL:PT1H
BEGIN:VTIMEZONE
TZID:UTC
BEGIN:STANDARD
TZOFFSETFROM:+0000
TZOFFSETTO:+0000
TZNAME:UTC
DTSTART:20230101T000000
END:STANDARD
END:VTIMEZONE
BEGIN:VEVENT
DTSTART;TZID=UTC:20230520T080000
DTEND;TZID=UTC:20230520T170000
DTSTAMP:20260420T145606
CREATED:20230520T004158Z
LAST-MODIFIED:20230520T005107Z
UID:1470-1684569600-1684602000@savannahoakswineryofdelano.com
SUMMARY:Flip Side
DESCRIPTION:Flip Side plays classic rock\, country\, blues\, and pop.
URL:https://savannahoakswineryofdelano.com/event/flip-side/
LOCATION:USA\, Portland\, OR 97232\, Portland\, OR\, Portland\, OR 97232\, United States
CATEGORIES:Music at Clearview
ATTACH;FMTTYPE=image/jpeg:https://savannahoakswineryofdelano.com/wp-content/uploads/2023/05/Flip-Side-Barry-Wiesenfeld-and-John-Foley-768x576-1.jpg
ORGANIZER;CN="John":MAILTO:vine@gmail.com
END:VEVENT
END:VCALENDAR